BEGIN:VCALENDAR
VERSION:2.0
PRODID:Assembleia de Freguesia de Silvares | Sessão Ordinária de 27/04/20
 26
X-WR-CALNAME:Assembleia de Freguesia de Silvares | Sessão Ordinária de 27
 /04/2026
X-WR-TIMEZONE:Europe/Lisbon
X-PUBLISHED-TTL:P1W
BEGIN:VTIMEZONE
TZID:Europe/Lisbon
X-LIC-LOCATION:Europe/Lisbon
END:VTIMEZONE
BEGIN:VEVENT
UID:69e8c30a06ff4
DTSTART;VALUE=DATE:20260427
SEQUENCE:0
TRANSP:OPAQUE
DTEND;VALUE=DATE:20260428
SUMMARY:Assembleia de Freguesia de Silvares | Sessão Ordinária de 27/04/2
 026
CLASS:PUBLIC
DESCRIPTION:EDITALLisete Mendes Veiga\, Presidente da Assembleia de Fregues
 ia de Silvares\, do Município de Guimarães: Torna público\, em conformi
 dade com o disposto no artigo 11º e na alínea b) do nº 1 do artigo 14º
  da Lei 75/2013\, de 12 setembro\, que se vai realizar uma Assembleia Ordi
 nária no próximo&nbsp\;dia 27 de abril de 2026\, pelas 21h30\, a ter lug
 ar na sede da Junta de Freguesia\, sito na Rua 25 de Abril\, n.º 140\, em
  Silvares\, Guimarães\, com a seguinte ordem de trabalhos.Ponto 1 - Perí
 odo antes da Ordem do Dia1.1 - Informações e correspondência.1.2 - Apre
 sentação\, discussão e votação da ata da reunião anterior.1.3 - Per
 íodo destinado à intervenção dos deputados da Assembleia.Ponto 2 - Ord
 em do Dia2.1 - Apresentação\, discussão e votação dos documentos de p
 restação de contas e relatório de atividades de 2025.2.2- Apreciação 
 do inventário dos bens da Freguesia.2.3- Apreciação da informação esc
 rita do Presidente\, acerca da atividade da Junta de Freguesia.Ponto 3 - P
 eríodo de intervenção do públicoPonto 4 - Leitura e votação da ata m
 inutadaPara constar e devido efeitos\, se torna público\, este Edital e o
 utros de igual teor\, que vão ser afixados à porta da sede desta Autarqu
 ia\, e noutros lugares do estilo na Freguesia.
X-MICROSOFT-CDO-ALLDAYEVENT:TRUE
DTSTAMP:20260422T124602Z
END:VEVENT
END:VCALENDAR